BEGIN:VCALENDAR
VERSION:2.0
PRODID:-//Elizabeth Township - ECPv6.15.17.1//NONSGML v1.0//EN
CALSCALE:GREGORIAN
METHOD:PUBLISH
X-ORIGINAL-URL:https://elizabethtownship.net
X-WR-CALDESC:Events for Elizabeth Township
REFRESH-INTERVAL;VALUE=DURATION:PT1H
X-Robots-Tag:noindex
X-PUBLISHED-TTL:PT1H
BEGIN:VTIMEZONE
TZID:America/New_York
BEGIN:DAYLIGHT
TZOFFSETFROM:-0500
TZOFFSETTO:-0400
TZNAME:EDT
DTSTART:20230312T070000
END:DAYLIGHT
BEGIN:STANDARD
TZOFFSETFROM:-0400
TZOFFSETTO:-0500
TZNAME:EST
DTSTART:20231105T060000
END:STANDARD
BEGIN:DAYLIGHT
TZOFFSETFROM:-0500
TZOFFSETTO:-0400
TZNAME:EDT
DTSTART:20240310T070000
END:DAYLIGHT
BEGIN:STANDARD
TZOFFSETFROM:-0400
TZOFFSETTO:-0500
TZNAME:EST
DTSTART:20241103T060000
END:STANDARD
BEGIN:DAYLIGHT
TZOFFSETFROM:-0500
TZOFFSETTO:-0400
TZNAME:EDT
DTSTART:20250309T070000
END:DAYLIGHT
BEGIN:STANDARD
TZOFFSETFROM:-0400
TZOFFSETTO:-0500
TZNAME:EST
DTSTART:20251102T060000
END:STANDARD
END:VTIMEZONE
BEGIN:VEVENT
DTSTART;TZID=America/New_York:20240904T190000
DTEND;TZID=America/New_York:20240904T210000
DTSTAMP:20260423T203529
CREATED:20240214T153213Z
LAST-MODIFIED:20240214T153230Z
UID:3020-1725476400-1725483600@elizabethtownship.net
SUMMARY:PLANNING COMMISSION MEETING
DESCRIPTION:
URL:https://elizabethtownship.net/event/planning-commission-meeting-8/
END:VEVENT
BEGIN:VEVENT
DTSTART;TZID=America/New_York:20240905T190000
DTEND;TZID=America/New_York:20240905T203000
DTSTAMP:20260423T203529
CREATED:20240214T154721Z
LAST-MODIFIED:20240214T154745Z
UID:3038-1725562800-1725568200@elizabethtownship.net
SUMMARY:ET PARK BOARD - BIMONTHLY MEETING
DESCRIPTION:
URL:https://elizabethtownship.net/event/et-park-board-bimonthly-meeting-2/
END:VEVENT
BEGIN:VEVENT
DTSTART;TZID=America/New_York:20240911T190000
DTEND;TZID=America/New_York:20240911T210000
DTSTAMP:20260423T203529
CREATED:20240214T155403Z
LAST-MODIFIED:20241010T135020Z
UID:3052-1726081200-1726088400@elizabethtownship.net
SUMMARY:ZONING HEARING BOARD-cancelled
DESCRIPTION:
URL:https://elizabethtownship.net/event/zoning-hearing-board-27/
END:VEVENT
BEGIN:VEVENT
DTSTART;TZID=America/New_York:20240916T190000
DTEND;TZID=America/New_York:20240916T210000
DTSTAMP:20260423T203529
CREATED:20240214T150316Z
LAST-MODIFIED:20240827T143628Z
UID:2995-1726513200-1726520400@elizabethtownship.net
SUMMARY:BOARD OF SUPERVISORS MEETING
DESCRIPTION:
URL:https://elizabethtownship.net/event/board-of-supervisors-meeting-8/
END:VEVENT
END:VCALENDAR