BEGIN:VCALENDAR
VERSION:2.0
PRODID:-//Elizabeth Township - ECPv6.15.17.1//NONSGML v1.0//EN
CALSCALE:GREGORIAN
METHOD:PUBLISH
X-ORIGINAL-URL:https://elizabethtownship.net
X-WR-CALDESC:Events for Elizabeth Township
REFRESH-INTERVAL;VALUE=DURATION:PT1H
X-Robots-Tag:noindex
X-PUBLISHED-TTL:PT1H
BEGIN:VTIMEZONE
TZID:America/New_York
BEGIN:DAYLIGHT
TZOFFSETFROM:-0500
TZOFFSETTO:-0400
TZNAME:EDT
DTSTART:20250309T070000
END:DAYLIGHT
BEGIN:STANDARD
TZOFFSETFROM:-0400
TZOFFSETTO:-0500
TZNAME:EST
DTSTART:20251102T060000
END:STANDARD
BEGIN:DAYLIGHT
TZOFFSETFROM:-0500
TZOFFSETTO:-0400
TZNAME:EDT
DTSTART:20260308T070000
END:DAYLIGHT
BEGIN:STANDARD
TZOFFSETFROM:-0400
TZOFFSETTO:-0500
TZNAME:EST
DTSTART:20261101T060000
END:STANDARD
BEGIN:DAYLIGHT
TZOFFSETFROM:-0500
TZOFFSETTO:-0400
TZNAME:EDT
DTSTART:20270314T070000
END:DAYLIGHT
BEGIN:STANDARD
TZOFFSETFROM:-0400
TZOFFSETTO:-0500
TZNAME:EST
DTSTART:20271107T060000
END:STANDARD
END:VTIMEZONE
BEGIN:VEVENT
DTSTART;TZID=America/New_York:20260309T190000
DTEND;TZID=America/New_York:20260309T200000
DTSTAMP:20260423T162848
CREATED:20260114T194258Z
LAST-MODIFIED:20260114T194628Z
UID:7848-1773082800-1773086400@elizabethtownship.net
SUMMARY:BOS - BOARD OF SUPERVISORS MEETING
DESCRIPTION:MONTHLY MEETING
URL:https://elizabethtownship.net/event/bos-board-of-supervisors-meeting-4/
END:VEVENT
BEGIN:VEVENT
DTSTART;TZID=America/New_York:20260413T190000
DTEND;TZID=America/New_York:20260413T200000
DTSTAMP:20260423T162848
CREATED:20260114T194939Z
LAST-MODIFIED:20260114T194939Z
UID:7850-1776106800-1776110400@elizabethtownship.net
SUMMARY:BOS - BOARD OF SUPERVISORS MEETING
DESCRIPTION:MONTHLY MEETING
URL:https://elizabethtownship.net/event/bos-board-of-supervisors-meeting-5/
END:VEVENT
BEGIN:VEVENT
DTSTART;TZID=America/New_York:20260506T190000
DTEND;TZID=America/New_York:20260506T210000
DTSTAMP:20260423T162848
CREATED:20260423T174123Z
LAST-MODIFIED:20260423T174145Z
UID:7936-1778094000-1778101200@elizabethtownship.net
SUMMARY:ETPC - PLANNING COMMISSION
DESCRIPTION:MONTHLY ETPC MEETING
URL:https://elizabethtownship.net/event/etpc-planning-commission-2/
END:VEVENT
BEGIN:VEVENT
DTSTART;TZID=America/New_York:20260511T190000
DTEND;TZID=America/New_York:20260511T200000
DTSTAMP:20260423T162848
CREATED:20260114T195316Z
LAST-MODIFIED:20260114T195329Z
UID:7853-1778526000-1778529600@elizabethtownship.net
SUMMARY:BOS - BOARD OF SUPERVISORS MEETING
DESCRIPTION:MONTHLY MEETING
URL:https://elizabethtownship.net/event/bos-board-of-supervisors-meeting-6/
END:VEVENT
BEGIN:VEVENT
DTSTART;TZID=America/New_York:20260513T190000
DTEND;TZID=America/New_York:20260513T210000
DTSTAMP:20260423T162848
CREATED:20260423T174724Z
LAST-MODIFIED:20260423T174735Z
UID:7945-1778698800-1778706000@elizabethtownship.net
SUMMARY:ETZHB - ZONING HEARING BOARD
DESCRIPTION:MONTHLY ZONING HEARING BOARD
URL:https://elizabethtownship.net/event/etzhb-zoning-hearing-board/
END:VEVENT
BEGIN:VEVENT
DTSTART;TZID=America/New_York:20260603T190000
DTEND;TZID=America/New_York:20260603T210000
DTSTAMP:20260423T162848
CREATED:20260423T174227Z
LAST-MODIFIED:20260423T174729Z
UID:7938-1780513200-1780520400@elizabethtownship.net
SUMMARY:ETPC - PLANNING COMMISSION
DESCRIPTION:MONTHLY ETPC MEETING
URL:https://elizabethtownship.net/event/etpc-planning-commission-3/
END:VEVENT
BEGIN:VEVENT
DTSTART;TZID=America/New_York:20260610T190000
DTEND;TZID=America/New_York:20260610T210000
DTSTAMP:20260423T162848
CREATED:20260423T174822Z
LAST-MODIFIED:20260423T175231Z
UID:7947-1781118000-1781125200@elizabethtownship.net
SUMMARY:ETZHB - ZONING HEARING BOARD
DESCRIPTION:MONTHLY ZONING HEARING BOARD
URL:https://elizabethtownship.net/event/etzhb-zoning-hearing-board-2/
END:VEVENT
BEGIN:VEVENT
DTSTART;TZID=America/New_York:20260622T190000
DTEND;TZID=America/New_York:20260622T200000
DTSTAMP:20260423T162848
CREATED:20260114T195536Z
LAST-MODIFIED:20260423T175240Z
UID:7855-1782154800-1782158400@elizabethtownship.net
SUMMARY:BOS - BOARD OF SUPERVISORS MEETING - RESCHEDULED FROM JUNE 8 2026
DESCRIPTION:EMONTHLY MEETING
URL:https://elizabethtownship.net/event/bos-board-of-supervisors-meeting-7/
END:VEVENT
BEGIN:VEVENT
DTSTART;TZID=America/New_York:20260701T190000
DTEND;TZID=America/New_York:20260701T210000
DTSTAMP:20260423T162848
CREATED:20260423T174328Z
LAST-MODIFIED:20260423T174343Z
UID:7941-1782932400-1782939600@elizabethtownship.net
SUMMARY:ETPC - PLANNING COMMISSION
DESCRIPTION:MONTHLY ETPC MEETING
URL:https://elizabethtownship.net/event/etpc-planning-commission-4/
END:VEVENT
BEGIN:VEVENT
DTSTART;TZID=America/New_York:20260708T190000
DTEND;TZID=America/New_York:20260708T210000
DTSTAMP:20260423T162848
CREATED:20260423T174910Z
LAST-MODIFIED:20260423T174930Z
UID:7949-1783537200-1783544400@elizabethtownship.net
SUMMARY:ETZHB - ZONING HEARING BOARD
DESCRIPTION:MONTHLY ZONING HEARING BOARD
URL:https://elizabethtownship.net/event/etzhb-zoning-hearing-board-3/
END:VEVENT
BEGIN:VEVENT
DTSTART;TZID=America/New_York:20260713T190000
DTEND;TZID=America/New_York:20260713T200000
DTSTAMP:20260423T162848
CREATED:20260114T195934Z
LAST-MODIFIED:20260114T201229Z
UID:7857-1783969200-1783972800@elizabethtownship.net
SUMMARY:BOS - BOARD OF SUPERVISORS MEETING
DESCRIPTION:MONTHLY MEETING
URL:https://elizabethtownship.net/event/bos-board-of-supervisors-meeting-8/
END:VEVENT
BEGIN:VEVENT
DTSTART;TZID=America/New_York:20260805T190000
DTEND;TZID=America/New_York:20260805T210000
DTSTAMP:20260423T162848
CREATED:20260423T174508Z
LAST-MODIFIED:20260423T174829Z
UID:7943-1785956400-1785963600@elizabethtownship.net
SUMMARY:ETPC - PLANNING COMMISSION
DESCRIPTION:MONTHLY ETPC MEETING
URL:https://elizabethtownship.net/event/etpc-planning-commission-5/
END:VEVENT
BEGIN:VEVENT
DTSTART;TZID=America/New_York:20260810T190000
DTEND;TZID=America/New_York:20260810T200000
DTSTAMP:20260423T162848
CREATED:20260114T201503Z
LAST-MODIFIED:20260114T201621Z
UID:7860-1786388400-1786392000@elizabethtownship.net
SUMMARY:BOS - BOARD OF SUPERVISORS MEETING
DESCRIPTION:MONTHLY MEETING
URL:https://elizabethtownship.net/event/bos-board-of-supervisors-meeting-9/
END:VEVENT
BEGIN:VEVENT
DTSTART;TZID=America/New_York:20260812T190000
DTEND;TZID=America/New_York:20260812T210000
DTSTAMP:20260423T162848
CREATED:20260423T175014Z
LAST-MODIFIED:20260423T175024Z
UID:7951-1786561200-1786568400@elizabethtownship.net
SUMMARY:ETZHB - ZONING HEARING BOARD
DESCRIPTION:MONTHLY ZONING HEARING BOARD
URL:https://elizabethtownship.net/event/etzhb-zoning-hearing-board-4/
END:VEVENT
BEGIN:VEVENT
DTSTART;TZID=America/New_York:20260914T190000
DTEND;TZID=America/New_York:20260914T200000
DTSTAMP:20260423T162848
CREATED:20260114T201925Z
LAST-MODIFIED:20260114T202137Z
UID:7863-1789412400-1789416000@elizabethtownship.net
SUMMARY:BOS - BOARD OF SUPERVISORS MEETING
DESCRIPTION:MONTHLY MEETING
URL:https://elizabethtownship.net/event/bos-board-of-supervisors-meeting-10/
END:VEVENT
BEGIN:VEVENT
DTSTART;TZID=America/New_York:20261012T190000
DTEND;TZID=America/New_York:20261012T200000
DTSTAMP:20260423T162848
CREATED:20260114T202844Z
LAST-MODIFIED:20260114T203015Z
UID:7865-1791831600-1791835200@elizabethtownship.net
SUMMARY:BOS - BOARD OF SUPERVISORS MEETING
DESCRIPTION:MONTHLY MEETING
URL:https://elizabethtownship.net/event/bos-board-of-supervisors-meeting-11/
END:VEVENT
BEGIN:VEVENT
DTSTART;TZID=America/New_York:20261019T183000
DTEND;TZID=America/New_York:20261019T200000
DTSTAMP:20260423T162848
CREATED:20260114T203151Z
LAST-MODIFIED:20260114T204822Z
UID:7867-1792434600-1792440000@elizabethtownship.net
SUMMARY:BOS - BOARD OF SUPERVISORS MEETING - BUDGET
DESCRIPTION:ANNUAL BUDGET MEETING
URL:https://elizabethtownship.net/event/bos-board-of-supervisors-meeting-budget/
END:VEVENT
BEGIN:VEVENT
DTSTART;TZID=America/New_York:20261109T190000
DTEND;TZID=America/New_York:20261109T200000
DTSTAMP:20260423T162848
CREATED:20260114T204948Z
LAST-MODIFIED:20260114T205623Z
UID:7869-1794250800-1794254400@elizabethtownship.net
SUMMARY:BOS - BOARD OF SUPERVISORS MEETING
DESCRIPTION:MONTHLY MEETING
URL:https://elizabethtownship.net/event/bos-board-of-supervisors-meeting-12/
END:VEVENT
BEGIN:VEVENT
DTSTART;TZID=America/New_York:20261214T190000
DTEND;TZID=America/New_York:20261214T200000
DTSTAMP:20260423T162848
CREATED:20260114T205746Z
LAST-MODIFIED:20260114T205847Z
UID:7871-1797274800-1797278400@elizabethtownship.net
SUMMARY:BOS - BOARD OF SUPERVISORS MEETING
DESCRIPTION:MONTHLY MEETING
URL:https://elizabethtownship.net/event/bos-board-of-supervisors-meeting-13/
END:VEVENT
END:VCALENDAR